BEGIN:VCALENDAR
VERSION:2.0
PRODID:-//European Office Of Cyprus - ECPv6.15.20//NONSGML v1.0//EN
CALSCALE:GREGORIAN
METHOD:PUBLISH
X-WR-CALNAME:European Office Of Cyprus
X-ORIGINAL-URL:https://eoc.org.cy
X-WR-CALDESC:Events for European Office Of Cyprus
REFRESH-INTERVAL;VALUE=DURATION:PT1H
X-Robots-Tag:noindex
X-PUBLISHED-TTL:PT1H
BEGIN:VTIMEZONE
TZID:UTC
BEGIN:STANDARD
TZOFFSETFROM:+0000
TZOFFSETTO:+0000
TZNAME:UTC
DTSTART:20250101T000000
END:STANDARD
END:VTIMEZONE
BEGIN:VEVENT
DTSTART;TZID=UTC:20260423T140000
DTEND;TZID=UTC:20260423T150000
DTSTAMP:20260423T013713
CREATED:20260417T081407Z
LAST-MODIFIED:20260417T081407Z
UID:10720-1776952800-1776956400@eoc.org.cy
SUMMARY:The Cyprus Institute: Communities of Practice in Bronze Age and Early Iron Age Metallurgy Across Southeastern Europe and the Eastern Mediterranean
DESCRIPTION:We are pleased to invite you to the third lecture in the One Archaeological Science Seminar Series. Interdisciplinary Studies in Archaeological Science: Use of Isotopes. \nCommunities of practice in Bronze Age and Early Iron Age metallurgy across southeastern Europe and the eastern Mediterranean \nby Dr Vana Orfanou (Ludwig Maximilian University of Munich) \n23 April 2026 | 14:00–15:00\nHybrid event – join in person or online \nMore information available here: Seminar: Communities of Practice in Bronze Age and Early Iron Age Metallurgy Across Southeastern Europe and the Eastern Mediterranean – The Cyprus Institute \nOneArchSci is funded by the European Union under Horizon Europe Research and Innovation Programme under Grant Agreement No 101186503.
URL:https://eoc.org.cy/event/the-cyprus-institute-communities-of-practice-in-bronze-age-and-early-iron-age-metallurgy-across-southeastern-europe-and-the-eastern-mediterranean/
CATEGORIES:Events
ATTACH;FMTTYPE=image/png:https://eoc.org.cy/wp-content/uploads/2026/04/Social-Media-Image-VO.png
END:VEVENT
END:VCALENDAR